BEGIN:VCALENDAR
VERSION:2.0
PRODID:-//My Calendar//http://www.joedolson.com//v//EN
METHOD:PUBLISH
CALSCALE:GREGORIAN
X-WR-CALNAME:SG Winterthur
X-PUBLISHED-TTL:PT24H
REFRESH-INTERVAL;VALUE=DURATION:PT24H
X-WR-CALDESC:Veranstaltungen von SG Winterthur
BEGIN:VEVENT
UID:845-823
LOCATION:
SUMMARY:4. Blitzturnier (Blitzmeisterschaft 2026)
DTSTAMP:20260407
ORGANIZER;CN=Christian Bachmann:MAILTO:bachmann@pcb.ch
DTSTART;TZID=Europe/Zurich:20260407
DTEND;TZID=Europe/Zurich:20260408
URL;VALUE=URI:http://www.sgwinterthur.ch/terminplan/kalender
DESCRIPTION:
CATEGORIES:Vereinsturniere
X-FUNAMBOL-ALLDAY: 1
X-MICROSOFT-CDO-ALLDAYEVENT: TRUE
END:VEVENT
BEGIN:VEVENT
UID:846-824
LOCATION:
SUMMARY:SGM Aufstiegsspiele
DTSTAMP:20260411T000000
ORGANIZER;CN=Christian Bachmann:MAILTO:bachmann@pcb.ch
DTSTART;TZID=Europe/Zurich:20260411T000000
DTEND;TZID=Europe/Zurich:20260411T010000
URL;VALUE=URI:http://www.sgwinterthur.ch/terminplan/kalender
DESCRIPTION:
CATEGORIES:SGM
END:VEVENT
BEGIN:VEVENT
UID:847-825
LOCATION:
SUMMARY:4. Rapidturnier (Rapidmeisterschaft 2026)
DTSTAMP:20260414T000000
ORGANIZER;CN=Christian Bachmann:MAILTO:bachmann@pcb.ch
DTSTART;TZID=Europe/Zurich:20260414T000000
DTEND;TZID=Europe/Zurich:20260414T010000
URL;VALUE=URI:http://www.sgwinterthur.ch/terminplan/kalender
DESCRIPTION:
CATEGORIES:Vereinsturniere
END:VEVENT
BEGIN:VEVENT
UID:848-826
LOCATION:
SUMMARY:SMM 2. Runde 1.-4. Liga
DTSTAMP:20260418T000000
ORGANIZER;CN=Christian Bachmann:MAILTO:bachmann@pcb.ch
DTSTART;TZID=Europe/Zurich:20260418T000000
DTEND;TZID=Europe/Zurich:20260418T010000
URL;VALUE=URI:http://www.sgwinterthur.ch/terminplan/kalender
DESCRIPTION:
CATEGORIES:SMM
END:VEVENT
BEGIN:VEVENT
UID:849-827
LOCATION:
SUMMARY:SMM 2. Runde NLA (Bodan 1 - Winterthur 1)
DTSTAMP:20260419T000000
ORGANIZER;CN=Christian Bachmann:MAILTO:bachmann@pcb.ch
DTSTART;TZID=Europe/Zurich:20260419T000000
DTEND;TZID=Europe/Zurich:20260419T010000
URL;VALUE=URI:http://www.sgwinterthur.ch/terminplan/kalender
DESCRIPTION:
CATEGORIES:SMM
END:VEVENT
BEGIN:VEVENT
UID:850-828
LOCATION:
SUMMARY:SMM 2. Runde NLB (Winterthur 2 – Uzwil 1)
DTSTAMP:20260419T000000
ORGANIZER;CN=Christian Bachmann:MAILTO:bachmann@pcb.ch
DTSTART;TZID=Europe/Zurich:20260419T000000
DTEND;TZID=Europe/Zurich:20260419T010000
URL;VALUE=URI:http://www.sgwinterthur.ch/terminplan/kalender
DESCRIPTION:
CATEGORIES:SMM
END:VEVENT
BEGIN:VEVENT
UID:851-829
LOCATION:
SUMMARY:SMM-Review mit Resultatbesprechung, anschliessend  Ad hoc Blitzturnier
DTSTAMP:20260421T000000
ORGANIZER;CN=Christian Bachmann:MAILTO:bachmann@pcb.ch
DTSTART;TZID=Europe/Zurich:20260421T000000
DTEND;TZID=Europe/Zurich:20260421T010000
URL;VALUE=URI:http://www.sgwinterthur.ch/terminplan/kalender
DESCRIPTION:
CATEGORIES:Allgemein
END:VEVENT
BEGIN:VEVENT
UID:852-830
LOCATION:
SUMMARY:SGM 2. Aufstiegsspiele
DTSTAMP:20260425T000000
ORGANIZER;CN=Christian Bachmann:MAILTO:bachmann@pcb.ch
DTSTART;TZID=Europe/Zurich:20260425T000000
DTEND;TZID=Europe/Zurich:20260425T010000
URL;VALUE=URI:http://www.sgwinterthur.ch/terminplan/kalender
DESCRIPTION:
CATEGORIES:SGM
END:VEVENT
BEGIN:VEVENT
UID:853-831
LOCATION:
SUMMARY:5. Blitzturnier (Blitzmeisterschaft 2026)
DTSTAMP:20260428T000000
ORGANIZER;CN=Christian Bachmann:MAILTO:bachmann@pcb.ch
DTSTART;TZID=Europe/Zurich:20260428T000000
DTEND;TZID=Europe/Zurich:20260428T010000
URL;VALUE=URI:http://www.sgwinterthur.ch/terminplan/kalender
DESCRIPTION:
CATEGORIES:Vereinsturniere
END:VEVENT
END:VCALENDAR